Workbook
Name RiskExcelReportsGoInNewWorkbook: FALSE
Name RiskMinimizeOnStart: FALSE
Name RiskMonitorConvergence: FALSE
Name RiskPauseOnError: FALSE
Name RiskRealTimeResults: FALSE
Name RiskRunAfterRecalcMacro: FALSE
Name RiskRunAfterSimMacro: FALSE
Name RiskRunBeforeRecalcMacro: FALSE
Name RiskRunBeforeSimMacro: FALSE
Name RiskUpdateDisplay: FALSE
Name RiskUseDifferentSeedForEachSim: FALSE
Name RiskUseFixedSeed: FALSE
Name RiskUseMultipleCPUs: FALSE

Sheet SUMMARY
B2: Lake Kai - Land Valuation Analysis | T2: =NOW() -> 46308.959 | Z2: =+B2 -> Lake Kai - Land Valuation Analysis | AK2: =NOW() -> 46308.959
B4: GENERAL ASSUMPTIONS | I4: TRANSACTION SUMMARY | N4: LAKE KAI RESORT VACANTION COMMUNITY CONCEPT SITE PLAN | V4: LOT MIX - PRICING DETAIL | Z4: LOT ABSORPTION ASSUMPTIONS
I5: Owner / Developer: | L5: NWI Development Group
B6: Analysis Start Date | G6: 46388 | I6: Reasons for Developing: | L6: Fund Investment | V6: Lot Number | W6: Grade | X6: Sale Price | Z6: Lot Sales - Closing Costs | AK6: 0.06
B7: Month One of the Analysis | G7: =EOMONTH(G6,0) -> 46418 | I7: Closing Date: | L7: 46388 | V7: =+'Lot Pricing'!A4 -> 1 | W7: =+'Lot Pricing'!B4 -> Crescent Homes | X7: =+'Lot Pricing'!C4*$AC$70 -> 500000 | Z7: Scenario Selected | AG7: Legacy / inactive | AH7: Legacy / inactive | AK7: 1
B8: End Period of Project | G8: =Proforma!BC4 -> 50 | I8: Expected Investment Period (Years) | L8: =G8/12 -> 4.1666667 | V8: =+'Lot Pricing'!A5 -> 2 | W8: =+'Lot Pricing'!B5 -> Crescent Homes | X8: =+'Lot Pricing'!C5*$AC$70 -> 500000 | AF8: Lot Absorption (Months)
B9: Number of Lots | G9: 88 | I9: Total Land Area (Acres and sq. ft.) | K9: =40.77+0.036 -> 40.806 | L9: =+K9*43560 -> 1777509.4 | V9: =+'Lot Pricing'!A6 -> 3 | W9: =+'Lot Pricing'!B6 -> Crescent Homes | X9: =+'Lot Pricing'!C6*$AC$70 -> 500000 | AB9: Lot Sale Detail | AF9: 1 | AG9: =+AF9+1 -> 2 | AH9: =+AG9+1 -> 3 | AJ9: Sale | AK9: Net
B10: Rate of Lot Absorption per Month | G10: 2 | I10: Lake Land Area | K10: 23.93 | L10: =+K10*43560 -> 1042390.8 | V10: =+'Lot Pricing'!A7 -> 4 | W10: =+'Lot Pricing'!B7 -> Crescent Homes | X10: =+'Lot Pricing'!C7*$AC$70 -> 500000 | Z10: Month | AA10: Period | AB10: Lot Sales | AC10: Total Sales | AD10: Gross Lot Sales | AF10: =$G$8 -> 50 | AG10: 48 | AH10: 48 | AJ10: Commission | AK10: Revenue
B11: No. of Lots Contracted/Closed in Year One | G11: =CONCATENATE(Proforma!BH7," / ",Proforma!BH9) -> 16 / 0 | I11: Upland area | K11: =+K9-K10 -> 16.876 | L11: =+K11*43560 -> 735118.56 | V11: =+'Lot Pricing'!A8 -> 5 | W11: =+'Lot Pricing'!B8 -> Crescent Homes | X11: =+'Lot Pricing'!C8*$AC$70 -> 500000 | Z11: =Proforma!F4 -> 1 | AA11: =Proforma!F5 -> 46418 | AB11: =Proforma!F9 -> 0 | AC11: =Proforma!F10 -> 0 | AD11: =Proforma!F17 -> 0 | AF11: =AB11 -> 0 | AG11: 0 | AH11: 0 | AJ11: =+AD11*$AK$6 -> 0 | AK11: =+AD11-AJ11 -> 0
B12: No. of Lots Contracted/Closed in Year Two | G12: =CONCATENATE(Proforma!BI7," / ",Proforma!BI9) -> 24 / 0 | I12: Investment Thesis | V12: =+'Lot Pricing'!A9 -> 6 | W12: =+'Lot Pricing'!B9 -> Crescent Homes | X12: =+'Lot Pricing'!C9*$AC$70 -> 500000 | Z12: =Proforma!G4 -> 2 | AA12: =Proforma!G5 -> 46446 | AB12: =Proforma!G9 -> 0 | AC12: =Proforma!G10 -> 0 | AD12: =Proforma!G17 -> 0 | AF12: =AB12 -> 0 | AG12: 0 | AH12: 0 | AJ12: =+AD12*$AK$6 -> 0 | AK12: =+AD12-AJ12 -> 0
B13: No. of Lots Contracted/Closed in Year Three | G13: =CONCATENATE(Proforma!BJ7," / ",Proforma!BJ9) -> 24 / 60 | V13: =+'Lot Pricing'!A10 -> 7 | W13: =+'Lot Pricing'!B10 -> Crescent Homes | X13: =+'Lot Pricing'!C10*$AC$70 -> 500000 | Z13: =Proforma!H4 -> 3 | AA13: =Proforma!H5 -> 46477 | AB13: =Proforma!H9 -> 0 | AC13: =Proforma!H10 -> 0 | AD13: =Proforma!H17 -> 0 | AF13: =AB13 -> 0 | AG13: 0 | AH13: 0 | AJ13: =+AD13*$AK$6 -> 0 | AK13: =+AD13-AJ13 -> 0
B14: No. of Lots Contracted/Closed in Year Four | G14: =CONCATENATE(Proforma!BK7," / ",Proforma!BK9) -> 24 / 24 | V14: =+'Lot Pricing'!A11 -> 8 | W14: =+'Lot Pricing'!B11 -> Crescent Homes | X14: =+'Lot Pricing'!C11*$AC$70 -> 500000 | Z14: =Proforma!I4 -> 4 | AA14: =Proforma!I5 -> 46507 | AB14: =Proforma!I9 -> 0 | AC14: =Proforma!I10 -> 0 | AD14: =Proforma!I17 -> 0 | AF14: =AB14 -> 0 | AG14: 0 | AH14: 0 | AJ14: =+AD14*$AK$6 -> 0 | AK14: =+AD14-AJ14 -> 0
B15: No. of Lots Contracted/Closed in Year Five | G15: =CONCATENATE(Proforma!BL7," / ",Proforma!BL9) -> 0 / 4 | V15: =+'Lot Pricing'!A12 -> 9 | W15: =+'Lot Pricing'!B12 -> Court Homes | X15: =+'Lot Pricing'!C12*$AC$70 -> 300000 | Z15: =Proforma!J4 -> 5 | AA15: =Proforma!J5 -> 46538 | AB15: =Proforma!J9 -> 0 | AC15: =Proforma!J10 -> 0 | AD15: =Proforma!J17 -> 0 | AF15: =AB15 -> 0 | AG15: 0 | AH15: 0 | AJ15: =+AD15*$AK$6 -> 0 | AK15: =+AD15-AJ15 -> 0
V16: =+'Lot Pricing'!A13 -> 10 | W16: =+'Lot Pricing'!B13 -> Court Homes | X16: =+'Lot Pricing'!C13*$AC$70 -> 300000 | Z16: =Proforma!K4 -> 6 | AA16: =Proforma!K5 -> 46568 | AB16: =Proforma!K9 -> 0 | AC16: =Proforma!K10 -> 0 | AD16: =Proforma!K17 -> 0 | AF16: =AB16 -> 0 | AG16: 0 | AH16: 0 | AJ16: =+AD16*$AK$6 -> 0 | AK16: =+AD16-AJ16 -> 0
B17: SOURCES AND USES | V17: =+'Lot Pricing'!A14 -> 11 | W17: =+'Lot Pricing'!B14 -> Court Homes | X17: =+'Lot Pricing'!C14*$AC$70 -> 300000 | Z17: =Proforma!L4 -> 7 | AA17: =Proforma!L5 -> 46599 | AB17: =Proforma!L9 -> 0 | AC17: =Proforma!L10 -> 0 | AD17: =Proforma!L17 -> 0 | AF17: =AB17 -> 0 | AG17: 0 | AH17: 0 | AJ17: =+AD17*$AK$6 -> 0 | AK17: =+AD17-AJ17 -> 0
B18: Sources | C18: Per Lot | F18: Percent | V18: =+'Lot Pricing'!A15 -> 12 | W18: =+'Lot Pricing'!B15 -> Court Homes | X18: =+'Lot Pricing'!C15*$AC$70 -> 300000 | Z18: =Proforma!M4 -> 8 | AA18: =Proforma!M5 -> 46630 | AB18: =Proforma!M9 -> 0 | AC18: =Proforma!M10 -> 0 | AD18: =Proforma!M17 -> 0 | AF18: =AB18 -> 0 | AG18: 0 | AH18: 0 | AJ18: =+AD18*$AK$6 -> 0 | AK18: =+AD18-AJ18 -> 0
B19: All Cash | C19: =E19/G9 -> 132960.23 | E19: =E32 -> 11700500 | F19: 1 | V19: =+'Lot Pricing'!A16 -> 13 | W19: =+'Lot Pricing'!B16 -> Court Homes | X19: =+'Lot Pricing'!C16*$AC$70 -> 300000 | Z19: =Proforma!N4 -> 9 | AA19: =Proforma!N5 -> 46660 | AB19: =Proforma!N9 -> 0 | AC19: =Proforma!N10 -> 0 | AD19: =Proforma!N17 -> 0 | AF19: =AB19 -> 0 | AG19: 0 | AH19: 0 | AJ19: =+AD19*$AK$6 -> 0 | AK19: =+AD19-AJ19 -> 0
V20: =+'Lot Pricing'!A17 -> 14 | W20: =+'Lot Pricing'!B17 -> Court Homes | X20: =+'Lot Pricing'!C17*$AC$70 -> 300000 | Z20: =Proforma!O4 -> 10 | AA20: =Proforma!O5 -> 46691 | AB20: =Proforma!O9 -> 0 | AC20: =Proforma!O10 -> 0 | AD20: =Proforma!O17 -> 0 | AF20: =AB20 -> 0 | AG20: 0 | AH20: 0 | AJ20: =+AD20*$AK$6 -> 0 | AK20: =+AD20-AJ20 -> 0
B21: Total Sources | C21: =C19 -> 132960.23 | E21: =E19 -> 11700500 | F21: =F19 -> 1 | V21: =+'Lot Pricing'!A18 -> 15 | W21: =+'Lot Pricing'!B18 -> Manor Homes | X21: =+'Lot Pricing'!C18*$AC$70 -> 600000 | Z21: =Proforma!P4 -> 11 | AA21: =Proforma!P5 -> 46721 | AB21: =Proforma!P9 -> 0 | AC21: =Proforma!P10 -> 0 | AD21: =Proforma!P17 -> 0 | AF21: =AB21 -> 0 | AG21: 0 | AH21: 0 | AJ21: =+AD21*$AK$6 -> 0 | AK21: =+AD21-AJ21 -> 0
I22: PROFIT ANALYSIS SUMMARY | V22: =+'Lot Pricing'!A19 -> 16 | W22: =+'Lot Pricing'!B19 -> Manor Homes | X22: =+'Lot Pricing'!C19*$AC$70 -> 600000 | Z22: =Proforma!Q4 -> 12 | AA22: =Proforma!Q5 -> 46752 | AB22: =Proforma!Q9 -> 0 | AC22: =Proforma!Q10 -> 0 | AD22: =Proforma!Q17 -> 0 | AF22: =AB22 -> 0 | AG22: 0 | AH22: 0 | AJ22: =+AD22*$AK$6 -> 0 | AK22: =+AD22-AJ22 -> 0
B23: Uses | C23: Per Lot | F23: Percent | V23: =+'Lot Pricing'!A20 -> 17 | W23: =+'Lot Pricing'!B20 -> Manor Homes | X23: =+'Lot Pricing'!C20*$AC$70 -> 600000 | Z23: =Proforma!R4 -> 13 | AA23: =Proforma!R5 -> 46783 | AB23: =Proforma!R9 -> 0 | AC23: =Proforma!R10 -> 0 | AD23: =Proforma!R17 -> 0 | AF23: =AB23 -> 0 | AG23: 0 | AH23: 0 | AJ23: =+AD23*$AK$6 -> 0 | AK23: =+AD23-AJ23 -> 0
B24: Site Acquisition (Month 1 and 13) | C24: =E24/G9 -> 0 | E24: =Proforma!E22+Proforma!R22 -> 0 | F24: =+E24/$E$32 -> 0 | I24: Sales Proceeds | L24: ='Lot Pricing'!J5 -> Per Lot | V24: =+'Lot Pricing'!A21 -> 18 | W24: =+'Lot Pricing'!B21 -> Manor Homes | X24: =+'Lot Pricing'!C21*$AC$70 -> 600000 | Z24: =Proforma!S4 -> 14 | AA24: =Proforma!S5 -> 46812 | AB24: =Proforma!S9 -> 0 | AC24: =Proforma!S10 -> 0 | AD24: =Proforma!S17 -> 0 | AF24: =AB24 -> 0 | AG24: 0 | AH24: 0 | AJ24: =+AD24*$AK$6 -> 0 | AK24: =+AD24-AJ24 -> 0
B25: 0.04 | C25: =E25/$G$9 -> 0 | E25: =Proforma!BD23 -> 0 | F25: =+E25/$E$32 -> 0 | I25: Gross Lot Sales Proceeds | K25: ='Lot Pricing'!H6 -> 35800221 | L25: ='Lot Pricing'!J6 -> 406820.69 | V25: =+'Lot Pricing'!A22 -> 19 | W25: =+'Lot Pricing'!B22 -> Manor Homes | X25: =+'Lot Pricing'!C22*$AC$70 -> 600000 | Z25: =Proforma!T4 -> 15 | AA25: =Proforma!T5 -> 46843 | AB25: =Proforma!T9 -> 0 | AC25: =Proforma!T10 -> 0 | AD25: =Proforma!T17 -> 0 | AF25: =AB25 -> 0 | AG25: 0 | AH25: 0 | AJ25: =+AD25*$AK$6 -> 0 | AK25: =+AD25-AJ25 -> 0
B26: 0.03 | C26: =E26/$G$9 -> 0 | E26: =Proforma!BD24 -> 0 | F26: =+E26/$E$32 -> 0 | I26: Less Closing Costs (6%) | K26: ='Lot Pricing'!H7 -> -2148013.3 | L26: ='Lot Pricing'!J7 -> -24409.242 | V26: =+'Lot Pricing'!A23 -> 20 | W26: =+'Lot Pricing'!B23 -> Big House Rental | X26: =+'Lot Pricing'!C23*$AC$70 -> 225000 | Z26: =Proforma!U4 -> 16 | AA26: =Proforma!U5 -> 46873 | AB26: =Proforma!U9 -> 0 | AC26: =Proforma!U10 -> 0 | AD26: =Proforma!U17 -> 0 | AF26: =AB26 -> 0 | AG26: 0 | AH26: 0 | AJ26: =+AD26*$AK$6 -> 0 | AK26: =+AD26-AJ26 -> 0
B27: Developer Fee | C27: =E27/$G$9 -> 6818.1818 | E27: =Proforma!BD25 -> 600000 | F27: =+E27/$E$32 -> 0.051279859 | I27: Net Sales Proceeds | K27: ='Lot Pricing'!H8 -> 33652208 | L27: ='Lot Pricing'!J8 -> 382411.45 | V27: =+'Lot Pricing'!A24 -> 21 | W27: =+'Lot Pricing'!B24 -> Big House Rental | X27: =+'Lot Pricing'!C24*$AC$70 -> 225000 | Z27: =Proforma!V4 -> 17 | AA27: =Proforma!V5 -> 46904 | AB27: =Proforma!V9 -> 0 | AC27: =Proforma!V10 -> 0 | AD27: =Proforma!V17 -> 0 | AF27: =AB27 -> 0 | AG27: 0 | AH27: 0 | AJ27: =+AD27*$AK$6 -> 0 | AK27: =+AD27-AJ27 -> 0
B28: =Proforma!A26 -> Entitlement | C28: =E28/$G$9 -> 16312.5 | E28: =SUM(Proforma!BD27:BD50) -> 1435500 | F28: =+E28/$E$32 -> 0.12268706 | V28: =+'Lot Pricing'!A25 -> 22 | W28: =+'Lot Pricing'!B25 -> Big House Rental | X28: =+'Lot Pricing'!C25*$AC$70 -> 225000 | Z28: =Proforma!W4 -> 18 | AA28: =Proforma!W5 -> 46934 | AB28: =Proforma!W9 -> 0 | AC28: =Proforma!W10 -> 0 | AD28: =Proforma!W17 -> 0 | AF28: =AB28 -> 0 | AG28: 0 | AH28: 0 | AJ28: =+AD28*$AK$6 -> 0 | AK28: =+AD28-AJ28 -> 0
B29: =Proforma!A51 -> Hard Costs | C29: =E29/$G$9 -> 93397.863 | E29: =SUM(Proforma!BD52:BD66) -> 8219011.9 | F29: =+E29/$E$32 -> 0.70244962 | I29: Project Costs | V29: =+'Lot Pricing'!A26 -> 23 | W29: =+'Lot Pricing'!B26 -> Big House Rental | X29: =+'Lot Pricing'!C26*$AC$70 -> 225000 | Z29: =Proforma!X4 -> 19 | AA29: =Proforma!X5 -> 46965 | AB29: =Proforma!X9 -> 0 | AC29: =Proforma!X10 -> 0 | AD29: =Proforma!X17 -> 0 | AF29: =AB29 -> 0 | AG29: 2 | AH29: 2 | AJ29: =+AD29*$AK$6 -> 0 | AK29: =+AD29-AJ29 -> 0
B30: =Proforma!A67 -> Soft Costs | C30: =E30/$G$9 -> 16431.685 | E30: =SUM(Proforma!BD68:BD78)+Proforma!BD79 -> 1445988.3 | F30: =+E30/$E$32 -> 0.12358346 | I30: Site Acquisition | K30: =E24 -> 0 | L30: =C24 -> 0 | V30: =+'Lot Pricing'!A27 -> 24 | W30: =+'Lot Pricing'!B27 -> Big House Rental | X30: =+'Lot Pricing'!C27*$AC$70 -> 225000 | Z30: =Proforma!Y4 -> 20 | AA30: =Proforma!Y5 -> 46996 | AB30: =Proforma!Y9 -> 0 | AC30: =Proforma!Y10 -> 0 | AD30: =Proforma!Y17 -> 0 | AF30: =AB30 -> 0 | AG30: 3 | AH30: 3 | AJ30: =+AD30*$AK$6 -> 0 | AK30: =+AD30-AJ30 -> 0
I31: Closing Costs | K31: =E25 -> 0 | L31: =C25 -> 0 | V31: =+'Lot Pricing'!A28 -> 25 | W31: =+'Lot Pricing'!B28 -> Big House Rental | X31: =+'Lot Pricing'!C28*$AC$70 -> 225000 | Z31: =Proforma!Z4 -> 21 | AA31: =Proforma!Z5 -> 47026 | AB31: =Proforma!Z9 -> 0 | AC31: =Proforma!Z10 -> 0 | AD31: =Proforma!Z17 -> 0 | AF31: =AB31 -> 0 | AG31: 2 | AH31: 2 | AJ31: =+AD31*$AK$6 -> 0 | AK31: =+AD31-AJ31 -> 0
B32: Total Uses | C32: =SUM(C24:C30) -> 132960.23 | E32: =SUM(E24:E30) -> 11700500 | F32: =SUM(F24:F31) -> 1 | I32: Acquisition Fee | K32: =E26 -> 0 | L32: =C26 -> 0 | N32: LAND ALLOCATION | O32: UNIT COUNT | P32: DIMENSIONS W x D | R32: SF | T32: VALUE/LOT | V32: =+'Lot Pricing'!A29 -> 26 | W32: =+'Lot Pricing'!B29 -> Big House Rental | X32: =+'Lot Pricing'!C29*$AC$70 -> 225000 | Z32: =Proforma!AA4 -> 22 | AA32: =Proforma!AA5 -> 47057 | AB32: =Proforma!AA9 -> 0 | AC32: =Proforma!AA10 -> 0 | AD32: =Proforma!AA17 -> 0 | AF32: =AB32 -> 0 | AG32: 3 | AH32: 3 | AJ32: =+AD32*$AK$6 -> 0 | AK32: =+AD32-AJ32 -> 0
I33: Developer Fee | K33: =E27 -> 600000 | L33: =C27 -> 6818.1818 | N33: Crescent Homes | O33: 8 | P33: 40 | Q33: 70 | R33: =P33*Q33 -> 2800 | T33: ='Lot Pricing'!C4 -> 500000 | V33: =+'Lot Pricing'!A30 -> 27 | W33: =+'Lot Pricing'!B30 -> Big House Rental | X33: =+'Lot Pricing'!C30*$AC$70 -> 225000 | Z33: =Proforma!AB4 -> 23 | AA33: =Proforma!AB5 -> 47087 | AB33: =Proforma!AB9 -> 0 | AC33: =Proforma!AB10 -> 0 | AD33: =Proforma!AB17 -> 0 | AF33: =AB33 -> 0 | AG33: 2 | AH33: 2 | AJ33: =+AD33*$AK$6 -> 0 | AK33: =+AD33-AJ33 -> 0
B34: NOTES | I34: =B28 -> Entitlement | K34: =E28 -> 1435500 | L34: =C28 -> 16312.5 | N34: Court Homes | O34: 6 | P34: 28 | Q34: 40 | R34: =P34*Q34 -> 1120 | T34: ='Lot Pricing'!C12 -> 300000 | V34: =+'Lot Pricing'!A31 -> 28 | W34: =+'Lot Pricing'!B31 -> Big House Rental | X34: =+'Lot Pricing'!C31*$AC$70 -> 225000 | Z34: =Proforma!AC4 -> 24 | AA34: =Proforma!AC5 -> 47118 | AB34: =Proforma!AC9 -> 0 | AC34: =Proforma!AC10 -> 0 | AD34: =Proforma!AC17 -> 0 | AF34: =AB34 -> 0 | AG34: 3 | AH34: 3 | AJ34: =+AD34*$AK$6 -> 0 | AK34: =+AD34-AJ34 -> 0
I35: =B29 -> Hard Costs | K35: =E29 -> 8219011.9 | L35: =C29 -> 93397.863 | N35: Manor Homes | O35: 5 | P35: 60 | Q35: 90 | R35: =P35*Q35 -> 5400 | T35: ='Lot Pricing'!C18 -> 600000 | V35: =+'Lot Pricing'!A32 -> 29 | W35: =+'Lot Pricing'!B32 -> Big House Rental | X35: =+'Lot Pricing'!C32*$AC$70 -> 225000 | Z35: =Proforma!AD4 -> 25 | AA35: =Proforma!AD5 -> 47149 | AB35: =Proforma!AD9 -> 38 | AC35: =Proforma!AD10 -> 38 | AD35: =Proforma!AD17 -> 15435787 | AF35: =AB35 -> 38 | AG35: 2 | AH35: 2 | AJ35: =+AD35*$AK$6 -> 926147.2 | AK35: =+AD35-AJ35 -> 14509639
I36: =B30 -> Soft Costs | K36: =E30 -> 1445988.3 | L36: =C30 -> 16431.685 | N36: Big House Condo | O36: 12 | P36: - | Q36: - | R36: - | T36: ='Lot Pricing'!C23 -> 225000 | V36: =+'Lot Pricing'!A33 -> 30 | W36: =+'Lot Pricing'!B33 -> Big House Rental | X36: =+'Lot Pricing'!C33*$AC$70 -> 225000 | Z36: =Proforma!AE4 -> 26 | AA36: =Proforma!AE5 -> 47177 | AB36: =Proforma!AE9 -> 2 | AC36: =Proforma!AE10 -> 40 | AD36: =Proforma!AE17 -> 812409.82 | AF36: =AB36 -> 2 | AG36: 3 | AH36: 3 | AJ36: =+AD36*$AK$6 -> 48744.589 | AK36: =+AD36-AJ36 -> 763665.23
I37: Subtotal Costs | K37: =SUM(K30:K36) -> 11700500 | L37: =SUM(L30:L36) -> 132960.23 | N37: Treehouses | O37: 4 | P37: 36 | Q37: 36 | R37: =P37*Q37 -> 1296 | T37: ='Lot Pricing'!C35 -> 250000 | V37: =+'Lot Pricing'!A34 -> 31 | W37: =+'Lot Pricing'!B34 -> Big House Rental | X37: =+'Lot Pricing'!C34*$AC$70 -> 225000 | Z37: =Proforma!AF4 -> 27 | AA37: =Proforma!AF5 -> 47208 | AB37: =Proforma!AF9 -> 2 | AC37: =Proforma!AF10 -> 42 | AD37: =Proforma!AF17 -> 812409.82 | AF37: =AB37 -> 2 | AG37: 2 | AH37: 2 | AJ37: =+AD37*$AK$6 -> 48744.589 | AK37: =+AD37-AJ37 -> 763665.23
N38: Pool Bungalows | O38: 9 | P38: 28 | Q38: 40 | R38: =P38*Q38 -> 1120 | T38: ='Lot Pricing'!C39 -> 300000 | V38: =+'Lot Pricing'!A35 -> 32 | W38: =+'Lot Pricing'!B35 -> Tree houses | X38: =+'Lot Pricing'!C35*$AC$70 -> 250000 | Z38: =Proforma!AG4 -> 28 | AA38: =Proforma!AG5 -> 47238 | AB38: =Proforma!AG9 -> 2 | AC38: =Proforma!AG10 -> 44 | AD38: =Proforma!AG17 -> 812409.82 | AF38: =AB38 -> 2 | AG38: 3 | AH38: 3 | AJ38: =+AD38*$AK$6 -> 48744.589 | AK38: =+AD38-AJ38 -> 763665.23
I39: Net Cash Flow | K39: =K27-K37 -> 21951707 | L39: =L27-L37 -> 249451.22 | N39: Lake Cottages | O39: 8 | P39: =46 -> 46 | Q39: 64 | R39: =P39*Q39 -> 2944 | T39: ='Lot Pricing'!C48 -> 450000 | V39: =+'Lot Pricing'!A36 -> 33 | W39: =+'Lot Pricing'!B36 -> Tree houses | X39: =+'Lot Pricing'!C36*$AC$70 -> 250000 | Z39: =Proforma!AH4 -> 29 | AA39: =Proforma!AH5 -> 47269 | AB39: =Proforma!AH9 -> 2 | AC39: =Proforma!AH10 -> 46 | AD39: =Proforma!AH17 -> 812409.82 | AF39: =AB39 -> 2 | AG39: 2 | AH39: 2 | AJ39: =+AD39*$AK$6 -> 48744.589 | AK39: =+AD39-AJ39 -> 763665.23
N40: Dune Homes | O40: 9 | P40: 55 | Q40: 90 | R40: =P40*Q40 -> 4950 | T40: ='Lot Pricing'!C56 -> 400000 | V40: =+'Lot Pricing'!A37 -> 34 | W40: =+'Lot Pricing'!B37 -> Tree houses | X40: =+'Lot Pricing'!C37*$AC$70 -> 250000 | Z40: =Proforma!AI4 -> 30 | AA40: =Proforma!AI5 -> 47299 | AB40: =Proforma!AI9 -> 2 | AC40: =Proforma!AI10 -> 48 | AD40: =Proforma!AI17 -> 812409.82 | AF40: =AB40 -> 2 | AG40: 3 | AH40: 3 | AJ40: =+AD40*$AK$6 -> 48744.589 | AK40: =+AD40-AJ40 -> 763665.23
I41: Peak Equity | K41: ='Lot Pricing'!H23 -> 11303559 | N41: Lake Cottages | O41: 24 | P41: 46 | Q41: 64 | R41: =P41*Q41 -> 2944 | T41: ='Lot Pricing'!C65 -> 450000 | V41: =+'Lot Pricing'!A38 -> 35 | W41: =+'Lot Pricing'!B38 -> Tree houses | X41: =+'Lot Pricing'!C38*$AC$70 -> 250000 | Z41: =Proforma!AJ4 -> 31 | AA41: =Proforma!AJ5 -> 47330 | AB41: =Proforma!AJ9 -> 2 | AC41: =Proforma!AJ10 -> 50 | AD41: =Proforma!AJ17 -> 812409.82 | AF41: =AB41 -> 2 | AG41: 2 | AH41: 2 | AJ41: =+AD41*$AK$6 -> 48744.589 | AK41: =+AD41-AJ41 -> 763665.23
N42: Forest Homes | O42: 3 | P42: 90 | Q42: 100 | R42: =P42*Q42 -> 9000 | T42: ='Lot Pricing'!C89 -> 750000 | V42: =+'Lot Pricing'!A39 -> 36 | W42: =+'Lot Pricing'!B39 -> Pool Bungalows | X42: =+'Lot Pricing'!C39*$AC$70 -> 300000 | Z42: =Proforma!AK4 -> 32 | AA42: =Proforma!AK5 -> 47361 | AB42: =Proforma!AK9 -> 2 | AC42: =Proforma!AK10 -> 52 | AD42: =Proforma!AK17 -> 812409.82 | AF42: =AB42 -> 2 | AG42: 3 | AH42: 3 | AJ42: =+AD42*$AK$6 -> 48744.589 | AK42: =+AD42-AJ42 -> 763665.23
...

Sheet Proforma
A1: Lake Kai
C2: Development Phase | E2: Entitlement | F2: Entitlement | G2: Entitlement | H2: Entitlement | I2: Entitlement | J2: Entitlement | K2: Entitlement | L2: Entitlement | M2: Entitlement | N2: Entitlement | O2: Entitlement | P2: Entitlement | Q2: Entitlement | R2: Construction | S2: Construction | T2: Construction | U2: Construction | V2: Construction | W2: Construction | X2: Construction | Y2: Construction | Z2: Construction | AA2: Construction | AB2: Construction | AC2: Construction | AD2: Sale | AE2: Sale | AF2: Sale | AG2: Sale | AH2: Sale | AI2: Sale | AJ2: Sale | AK2: Sale | AL2: Sale | AM2: Sale | AN2: Sale | AO2: Sale | AP2: Sale | AQ2: Sale | AR2: Sale | AS2: Sale | AT2: Sale | AU2: Sale | AV2: Sale | AW2: Sale | AX2: Sale | AY2: Sale | AZ2: Sale | BA2: Sale | BB2: Sale | BC2: Sale
C3: Year | E3: =ROUNDUP(E4/12,0) -> 0 | F3: =ROUNDUP(F4/12,0) -> 1 | G3: =ROUNDUP(G4/12,0) -> 1 | H3: =ROUNDUP(H4/12,0) -> 1 | I3: =ROUNDUP(I4/12,0) -> 1 | J3: =ROUNDUP(J4/12,0) -> 1 | K3: =ROUNDUP(K4/12,0) -> 1 | L3: =ROUNDUP(L4/12,0) -> 1 | ... BC3: =ROUNDUP(BC4/12,0) -> 5
C4: Month | E4: 0 | F4: 1 | G4: 2 | H4: 3 | I4: 4 | J4: 5 | K4: 6 | L4: 7 | M4: 8 | N4: 9 | O4: 10 | P4: 11 | Q4: 12 | R4: =+Q4+1 -> 13 | S4: =+R4+1 -> 14 | T4: =+S4+1 -> 15 | U4: =+T4+1 -> 16 | V4: =+U4+1 -> 17 | W4: =+V4+1 -> 18 | X4: =+W4+1 -> 19 | Y4: =+X4+1 -> 20 | ... BC4: =+BB4+1 -> 50 | BD4: Totals | BF4: Years | BG4: 0 | BH4: 1 | BI4: 2 | BJ4: 3 | BK4: 4 | BL4: 5 | BM4: Totals
C5: Date | E5: =SUMMARY!G6 -> 46388 | F5: =EOMONTH(E5,0) -> 46418 | G5: =EOMONTH(F5,1) -> 46446 | H5: =EOMONTH(G5,1) -> 46477 | I5: =EOMONTH(H5,1) -> 46507 | J5: =EOMONTH(I5,1) -> 46538 | K5: =EOMONTH(J5,1) -> 46568 | L5: =EOMONTH(K5,1) -> 46599 | M5: =EOMONTH(L5,1) -> 46630 | N5: =EOMONTH(M5,1) -> 46660 | ... BC5: =EOMONTH(BB5,1) -> 47907
A7: Lot Sales (Presales/Contract Execution) | E7: 0 | F7: 0 | G7: 0 | H7: 0 | I7: 0 | J7: =IF(SUMMARY!$G$9>Proforma!I8,SUMMARY!$G$10,0) -> 2 | K7: =IF(SUMMARY!$G$9>Proforma!J8,SUMMARY!$G$10,0) -> 2 | L7: =IF(SUMMARY!$G$9>Proforma!K8,SUMMARY!$G$10,0) -> 2 | M7: =IF(SUMMARY!$G$9>Proforma!L8,SUMMARY!$G$10,0) -> 2 | N7: =IF(SUMMARY!$G$9>Proforma!M8,SUMMARY!$G$10,0) -> 2 | O7: =IF(SUMMARY!$G$9>Proforma!N8,SUMMARY!$G$10,0) -> 2 | P7: =IF(SUMMARY!$G$9>Proforma!O8,SUMMARY!$G$10,0) -> 2 | Q7: =IF(SUMMARY!$G$9>Proforma!P8,SUMMARY!$G$10,0) -> 2 | ... BC7: =IF(SUMMARY!$G$9>Proforma!BB8,SUMMARY!$G$10,0) -> 0 | BD7: =SUM(F7:BC7) -> 88 | BG7: 0 | BH7: =SUM(F7:Q7) -> 16 | BI7: =SUM(R7:AC7) -> 24 | BJ7: =SUM(AD7:AO7) -> 24 | BK7: =SUM(AP7:BA7) -> 24 | BL7: =SUM(BB7:BC7) -> 0 | BM7: =SUM(BH7:BL7) -> 88
A8: Cummulative Lot Sales (Contract) | E8: =E7+D8 -> 0 | F8: =F7+E8 -> 0 | G8: =G7+F8 -> 0 | H8: =H7+G8 -> 0 | I8: =I7+H8 -> 0 | J8: =J7+I8 -> 2 | K8: =K7+J8 -> 4 | L8: =L7+K8 -> 6 | ... BC8: =BC7+BB8 -> 88 | BG8: 0 | BH8: =+Q8 -> 16 | BI8: =+AC8 -> 40 | BJ8: =+AO8 -> 64 | BK8: =BA8 -> 88 | BL8: =BC8 -> 88
A9: Lot Closings (Delivery) | E9: 0 | F9: 0 | G9: 0 | H9: 0 | I9: 0 | J9: 0 | K9: 0 | L9: 0 | M9: 0 | N9: 0 | O9: 0 | P9: 0 | Q9: 0 | R9: 0 | S9: 0 | T9: 0 | U9: 0 | V9: 0 | W9: 0 | X9: 0 | Y9: 0 | Z9: 0 | AA9: 0 | AB9: 0 | AC9: 0 | AD9: =AB8 -> 38 | AE9: =AC7 -> 2 | AF9: =AD7 -> 2 | AG9: =AE7 -> 2 | AH9: =AF7 -> 2 | AI9: =AG7 -> 2 | AJ9: =AH7 -> 2 | AK9: =AI7 -> 2 | AL9: =AJ7 -> 2 | ... BC9: =BA7 -> 2 | BD9: =SUM(F9:BC9) -> 88 | BG9: 0 | BH9: =SUM(F9:Q9) -> 0 | BI9: =SUM(R9:AC9) -> 0 | BJ9: =SUM(AD9:AO9) -> 60 | BK9: =SUM(AP9:BA9) -> 24 | BL9: =SUM(BB9:BC9) -> 4 | BM9: =SUM(BH9:BL9) -> 88
A10: Cumulative Lot Closings | E10: =+BD10 -> 0 | F10: =+F9 -> 0 | G10: =G9+F10 -> 0 | H10: =H9+G10 -> 0 | I10: =I9+H10 -> 0 | J10: =J9+I10 -> 0 | K10: =K9+J10 -> 0 | L10: =L9+K10 -> 0 | M10: =M9+L10 -> 0 | N10: =N9+M10 -> 0 | ... BC10: =BC9+BB10 -> 88 | BG10: 0 | BH10: =+Q10 -> 0 | BI10: =+AC10 -> 0 | BJ10: =+AO10 -> 60 | BK10: =BA10 -> 84 | BL10: =BC10 -> 88
A11: Average Lot Sales Price | F11: =+'Lot Pricing'!C93 -> 402840.91 | G11: =+F11*(1+(G12/12)) -> 402840.91 | H11: =+G11*(1+(H12/12)) -> 402840.91 | I11: =+H11*(1+(I12/12)) -> 402840.91 | J11: =+I11*(1+(J12/12)) -> 402840.91 | K11: =+J11*(1+(K12/12)) -> 402840.91 | L11: =+K11*(1+(L12/12)) -> 402840.91 | M11: =+L11*(1+(M12/12)) -> 402840.91 | N11: =+M11*(1+(N12/12)) -> 402840.91 | ... AX11: =+AW11*(1+(AX12/12)) -> 407897.43 | AY11: =+AU11*(1+(AY12/12)) -> 407897.43 | AZ11: =+AY11*(1+(AZ12/12)) -> 407897.43 | BA11: =+AZ11*(1+(BA12/12)) -> 407897.43 | BB11: =+AX11*(1+(BB12/12)) -> 409597 | BC11: =+BB11*(1+(BC12/12)) -> 409597
A12: Sales Price Inflator | F12: 0 | G12: 0 | H12: 0 | I12: 0 | J12: 0 | K12: 0 | L12: 0 | M12: 0 | N12: 0 | O12: 0 | P12: 0 | Q12: 0 | R12: 0.05 | S12: 0 | T12: 0 | U12: 0 | V12: 0 | W12: 0 | X12: 0 | Y12: 0 | Z12: 0 | AA12: 0 | AB12: 0 | AC12: 0 | AD12: 0.05 | AE12: 0 | AF12: 0 | AG12: 0 | AH12: 0 | AI12: 0 | AJ12: 0 | AK12: 0 | AL12: 0 | AM12: 0 | AN12: 0 | AO12: 0 | AP12: 0.05 | AQ12: 0 | AR12: 0 | AS12: 0 | AT12: 0 | AU12: 0 | AV12: 0 | AW12: 0 | AX12: 0 | AY12: 0 | AZ12: 0 | BA12: 0 | BB12: 0.05 | BC12: 0
A14: End Period of Project | C14: 50
A16: Lot Sale Revenue
A17: Gross Lot Sales Proceeds | E17: =+C9*E11 -> 0 | F17: =+F9*F11 -> 0 | G17: =+G9*G11 -> 0 | H17: =+H9*H11 -> 0 | I17: =+I9*I11 -> 0 | J17: =+J9*J11 -> 0 | K17: =+K9*K11 -> 0 | L17: =+L9*L11 -> 0 | M17: =+M9*M11 -> 0 | ... BC17: =+BC9*BC11 -> 819194.01 | BD17: =SUM(F17:BC17) -> 35800221 | BG17: =E17 -> 0 | BH17: =SUM(F17:Q17) -> 0 | BI17: =SUM(R17:AC17) -> 0 | BJ17: =SUM(AD17:AO17) -> 24372295 | BK17: =SUM(AP17:BA17) -> 9789538.3 | BL17: =SUM(BB17:BC17) -> 1638388 | BM17: =SUM(BH17:BL17) -> 35800221
A18: 0.06 | E18: =+(E17)*-$A$18 -> 0 | F18: =+(F17)*-$A$18 -> 0 | G18: =+(G17)*-$A$18 -> 0 | H18: =+(H17)*-$A$18 -> 0 | I18: =+(I17)*-$A$18 -> 0 | J18: =+(J17)*-$A$18 -> 0 | K18: =+(K17)*-$A$18 -> 0 | L18: =+(L17)*-$A$18 -> 0 | ... BC18: =+(BC17)*-$A$18 -> -49151.64 | BD18: =SUM(F18:BC18) -> -2148013.3 | BG18: =E18 -> 0 | BH18: =SUM(F18:Q18) -> 0 | BI18: =SUM(R18:AC18) -> 0 | BJ18: =SUM(AD18:AO18) -> -1462337.7 | BK18: =SUM(AP18:BA18) -> -587372.3 | BL18: =SUM(BB18:BC18) -> -98303.281 | BM18: =SUM(BH18:BL18) -> -2148013.3
A19: Net Sales Proceeds | E19: =SUM(E17:E18) -> 0 | F19: =SUM(F17:F18) -> 0 | G19: =SUM(G17:G18) -> 0 | H19: =SUM(H17:H18) -> 0 | I19: =SUM(I17:I18) -> 0 | J19: =SUM(J17:J18) -> 0 | K19: =SUM(K17:K18) -> 0 | L19: =SUM(L17:L18) -> 0 | ... BC19: =SUM(BC17:BC18) -> 770042.37 | BD19: =BD17+BD18 -> 33652208 | BG19: =+BG17+BG18 -> 0 | BH19: =+BH17+BH18 -> 0 | BI19: =+BI17+BI18 -> 0 | BJ19: =+BJ17+BJ18 -> 22909957 | BK19: =+BK17+BK18 -> 9202166 | BL19: =+BL17+BL18 -> 1540084.7 | BM19: =+BM17+BM18 -> 33652208
A21: Project Cost Detail
A22: Site Acquisition (Month 1 and 13) | E22: 0 | F22: 0 | G22: 0 | H22: 0 | I22: 0 | J22: 0 | K22: 0 | L22: 0 | M22: 0 | N22: 0 | O22: 0 | P22: 0 | Q22: 0 | R22: 0 | S22: 0 | T22: 0 | U22: 0 | V22: 0 | W22: 0 | X22: 0 | Y22: 0 | Z22: 0 | AA22: 0 | AB22: 0 | AC22: 0 | AD22: 0 | AE22: 0 | AF22: 0 | AG22: 0 | AH22: 0 | AI22: 0 | AJ22: 0 | AK22: 0 | AL22: 0 | AM22: 0 | AN22: 0 | AO22: 0 | AP22: 0 | AQ22: 0 | AR22: 0 | AS22: 0 | AT22: 0 | AU22: 0 | AV22: 0 | AW22: 0 | AX22: 0 | AY22: 0 | AZ22: 0 | BA22: 0 | BB22: 0 | BC22: 0 | BD22: =SUM(E22:BC22) -> 0
A23: 0.04 | E23: =$A$23*E22 -> 0 | F23: =$A$23*F22 -> 0 | G23: =$A$23*G22 -> 0 | H23: =$A$23*H22 -> 0 | I23: =$A$23*I22 -> 0 | J23: =$A$23*J22 -> 0 | K23: =$A$23*K22 -> 0 | L23: =$A$23*L22 -> 0 | ... BC23: =$A$23*BC22 -> 0 | BD23: =SUM(E23:BC23) -> 0
A24: 0.03 | E24: =E22*$A$24 -> 0 | F24: =F22*$A$24 -> 0 | G24: =G22*$A$24 -> 0 | H24: =H22*$A$24 -> 0 | I24: =I22*$A$24 -> 0 | J24: =J22*$A$24 -> 0 | K24: =K22*$A$24 -> 0 | L24: =L22*$A$24 -> 0 | ... BC24: =BC22*$A$24 -> 0 | BD24: =SUM(E24:BC24) -> 0
A25: Developer Fee ($600k over life of project -- 4% of TDC) | E25: 0 | F25: =600000/36 -> 16666.667 | G25: =600000/36 -> 16666.667 | H25: =600000/36 -> 16666.667 | I25: =600000/36 -> 16666.667 | J25: =600000/36 -> 16666.667 | K25: =600000/36 -> 16666.667 | L25: =600000/36 -> 16666.667 | M25: =600000/36 -> 16666.667 | ... AO25: =600000/36 -> 16666.667 | AP25: 0 | AQ25: 0 | AR25: 0 | AS25: 0 | AT25: 0 | AU25: 0 | AV25: 0 | AW25: 0 | AX25: 0 | AY25: 0 | AZ25: 0 | BA25: 0 | BB25: 0 | BC25: 0 | BD25: =SUM(E25:BC25) -> 600000 | BG25: =E25 -> 0 | BH25: =SUM(F25:Q25) -> 200000 | BI25: =SUM(R25:AC25) -> 200000 | BJ25: =SUM(AD25:AO25) -> 200000 | BK25: =SUM(AP25:BA25) -> 0 | BL25: =SUM(BB25:BC25) -> 0 | BM25: =SUM(BG25:BL25) -> 600000
A26: Entitlement
A27: Residential Market Study | E27: 0 | F27: ='Entitlement Gantt Chart'!F43 -> 10000 | G27: ='Entitlement Gantt Chart'!G43 -> 0 | H27: ='Entitlement Gantt Chart'!H43 -> 0 | I27: ='Entitlement Gantt Chart'!I43 -> 0 | J27: ='Entitlement Gantt Chart'!J43 -> 0 | K27: ='Entitlement Gantt Chart'!K43 -> 0 | L27: ='Entitlement Gantt Chart'!L43 -> 0 | M27: ='Entitlement Gantt Chart'!M43 -> 0 | ... Q27: ='Entitlement Gantt Chart'!Q43 -> 0 | R27: 0 | S27: 0 | T27: 0 | U27: 0 | V27: 0 | W27: 0 | X27: 0 | Y27: 0 | Z27: 0 | AA27: 0 | AB27: 0 | AC27: 0 | AD27: 0 | AE27: 0 | AF27: 0 | AG27: 0 | AH27: 0 | AI27: 0 | AJ27: 0 | AK27: 0 | AL27: 0 | AM27: 0 | AN27: 0 | AO27: 0 | AP27: 0 | AQ27: 0 | AR27: 0 | AS27: 0 | AT27: 0 | AU27: 0 | AV27: 0 | AW27: 0 | AX27: 0 | AY27: 0 | AZ27: 0 | BA27: 0 | BB27: 0 | BC27: 0 | BD27: =SUM(E27:BC27) -> 10000 | BG27: =E27 -> 0 | BH27: =SUM(F27:Q27) -> 10000 | BI27: =SUM(R27:AC27) -> 0 | BJ27: =SUM(AD27:AO27) -> 0 | BK27: =SUM(AP27:BA27) -> 0 | BL27: =SUM(BB27:BC27) -> 0 | BM27: =SUM(BG27:BL27) -> 10000
A28: Boundary & Topographic Survey | E28: 0 | F28: ='Entitlement Gantt Chart'!F44 -> 35000 | G28: ='Entitlement Gantt Chart'!G44 -> 0 | H28: ='Entitlement Gantt Chart'!H44 -> 0 | I28: ='Entitlement Gantt Chart'!I44 -> 0 | J28: ='Entitlement Gantt Chart'!J44 -> 0 | K28: ='Entitlement Gantt Chart'!K44 -> 0 | L28: ='Entitlement Gantt Chart'!L44 -> 0 | M28: ='Entitlement Gantt Chart'!M44 -> 0 | ... Q28: ='Entitlement Gantt Chart'!Q44 -> 0 | R28: 0 | S28: 0 | T28: 0 | U28: 0 | V28: 0 | W28: 0 | X28: 0 | Y28: 0 | Z28: 0 | AA28: 0 | AB28: 0 | AC28: 0 | AD28: 0 | AE28: 0 | AF28: 0 | AG28: 0 | AH28: 0 | AI28: 0 | AJ28: 0 | AK28: 0 | AL28: 0 | AM28: 0 | AN28: 0 | AO28: 0 | AP28: 0 | AQ28: 0 | AR28: 0 | AS28: 0 | AT28: 0 | AU28: 0 | AV28: 0 | AW28: 0 | AX28: 0 | AY28: 0 | AZ28: 0 | BA28: 0 | BB28: 0 | BC28: 0 | BD28: =SUM(E28:BC28) -> 35000 | BG28: =E28 -> 0 | BH28: =SUM(F28:Q28) -> 35000 | BI28: =SUM(R28:AC28) -> 0 | BJ28: =SUM(AD28:AO28) -> 0 | BK28: =SUM(AP28:BA28) -> 0 | BL28: =SUM(BB28:BC28) -> 0 | BM28: =SUM(BG28:BL28) -> 35000
A29: Conceptual Civil Engineering | E29: 0 | F29: ='Entitlement Gantt Chart'!F45 -> 80000 | G29: ='Entitlement Gantt Chart'!G45 -> 0 | H29: ='Entitlement Gantt Chart'!H45 -> 0 | I29: ='Entitlement Gantt Chart'!I45 -> 0 | J29: ='Entitlement Gantt Chart'!J45 -> 0 | K29: ='Entitlement Gantt Chart'!K45 -> 0 | L29: ='Entitlement Gantt Chart'!L45 -> 0 | M29: ='Entitlement Gantt Chart'!M45 -> 0 | ... Q29: ='Entitlement Gantt Chart'!Q45 -> 0 | R29: 0 | S29: 0 | T29: 0 | U29: 0 | V29: 0 | W29: 0 | X29: 0 | Y29: 0 | Z29: 0 | AA29: 0 | AB29: 0 | AC29: 0 | AD29: 0 | AE29: 0 | AF29: 0 | AG29: 0 | AH29: 0 | AI29: 0 | AJ29: 0 | AK29: 0 | AL29: 0 | AM29: 0 | AN29: 0 | AO29: 0 | AP29: 0 | AQ29: 0 | AR29: 0 | AS29: 0 | AT29: 0 | AU29: 0 | AV29: 0 | AW29: 0 | AX29: 0 | AY29: 0 | AZ29: 0 | BA29: 0 | BB29: 0 | BC29: 0 | BD29: =SUM(E29:BC29) -> 80000 | BG29: =E29 -> 0 | BH29: =SUM(F29:Q29) -> 80000 | BI29: =SUM(R29:AC29) -> 0 | BJ29: =SUM(AD29:AO29) -> 0 | BK29: =SUM(AP29:BA29) -> 0 | BL29: =SUM(BB29:BC29) -> 0 | BM29: =SUM(BG29:BL29) -> 80000
A30: Planning / Zoning Consultant | E30: 0 | F30: ='Entitlement Gantt Chart'!F46 -> 100000 | G30: ='Entitlement Gantt Chart'!G46 -> 0 | H30: ='Entitlement Gantt Chart'!H46 -> 0 | I30: ='Entitlement Gantt Chart'!I46 -> 0 | J30: ='Entitlement Gantt Chart'!J46 -> 0 | K30: ='Entitlement Gantt Chart'!K46 -> 0 | L30: ='Entitlement Gantt Chart'!L46 -> 0 | M30: ='Entitlement Gantt Chart'!M46 -> 0 | ... Q30: ='Entitlement Gantt Chart'!Q46 -> 0 | R30: 0 | S30: 0 | T30: 0 | U30: 0 | V30: 0 | W30: 0 | X30: 0 | Y30: 0 | Z30: 0 | AA30: 0 | AB30: 0 | AC30: 0 | AD30: 0 | AE30: 0 | AF30: 0 | AG30: 0 | AH30: 0 | AI30: 0 | AJ30: 0 | AK30: 0 | AL30: 0 | AM30: 0 | AN30: 0 | AO30: 0 | AP30: 0 | AQ30: 0 | AR30: 0 | AS30: 0 | AT30: 0 | AU30: 0 | AV30: 0 | AW30: 0 | AX30: 0 | AY30: 0 | AZ30: 0 | BA30: 0 | BB30: 0 | BC30: 0 | BD30: =SUM(E30:BC30) -> 100000 | BG30: =E30 -> 0 | BH30: =SUM(F30:Q30) -> 100000 | BI30: =SUM(R30:AC30) -> 0 | BJ30: =SUM(AD30:AO30) -> 0 | BK30: =SUM(AP30:BA30) -> 0 | BL30: =SUM(BB30:BC30) -> 0 | BM30: =SUM(BG30:BL30) -> 100000
A31: Environmental Phase I | E31: 0 | F31: ='Entitlement Gantt Chart'!F47 -> 5000 | G31: ='Entitlement Gantt Chart'!G47 -> 0 | H31: ='Entitlement Gantt Chart'!H47 -> 0 | I31: ='Entitlement Gantt Chart'!I47 -> 0 | J31: ='Entitlement Gantt Chart'!J47 -> 0 | K31: ='Entitlement Gantt Chart'!K47 -> 0 | L31: ='Entitlement Gantt Chart'!L47 -> 0 | M31: ='Entitlement Gantt Chart'!M47 -> 0 | ... Q31: ='Entitlement Gantt Chart'!Q47 -> 0 | R31: 0 | S31: 0 | T31: 0 | U31: 0 | V31: 0 | W31: 0 | X31: 0 | Y31: 0 | Z31: 0 | AA31: 0 | AB31: 0 | AC31: 0 | AD31: 0 | AE31: 0 | AF31: 0 | AG31: 0 | AH31: 0 | AI31: 0 | AJ31: 0 | AK31: 0 | AL31: 0 | AM31: 0 | AN31: 0 | AO31: 0 | AP31: 0 | AQ31: 0 | AR31: 0 | AS31: 0 | AT31: 0 | AU31: 0 | AV31: 0 | AW31: 0 | AX31: 0 | AY31: 0 | AZ31: 0 | BA31: 0 | BB31: 0 | BC31: 0 | BD31: =SUM(E31:BC31) -> 5000 | BG31: =E31 -> 0 | BH31: =SUM(F31:Q31) -> 5000 | BI31: =SUM(R31:AC31) -> 0 | BJ31: =SUM(AD31:AO31) -> 0 | BK31: =SUM(AP31:BA31) -> 0 | BL31: =SUM(BB31:BC31) -> 0 | BM31: =SUM(BG31:BL31) -> 5000
A32: Wetlands Delineation | E32: 0 | F32: ='Entitlement Gantt Chart'!F48 -> 60000 | G32: ='Entitlement Gantt Chart'!G48 -> 0 | H32: ='Entitlement Gantt Chart'!H48 -> 0 | I32: ='Entitlement Gantt Chart'!I48 -> 0 | J32: ='Entitlement Gantt Chart'!J48 -> 0 | K32: ='Entitlement Gantt Chart'!K48 -> 0 | L32: ='Entitlement Gantt Chart'!L48 -> 0 | M32: ='Entitlement Gantt Chart'!M48 -> 0 | ... Q32: ='Entitlement Gantt Chart'!Q48 -> 0 | R32: 0 | S32: 0 | T32: 0 | U32: 0 | V32: 0 | W32: 0 | X32: 0 | Y32: 0 | Z32: 0 | AA32: 0 | AB32: 0 | AC32: 0 | AD32: 0 | AE32: 0 | AF32: 0 | AG32: 0 | AH32: 0 | AI32: 0 | AJ32: 0 | AK32: 0 | AL32: 0 | AM32: 0 | AN32: 0 | AO32: 0 | AP32: 0 | AQ32: 0 | AR32: 0 | AS32: 0 | AT32: 0 | AU32: 0 | AV32: 0 | AW32: 0 | AX32: 0 | AY32: 0 | AZ32: 0 | BA32: 0 | BB32: 0 | BC32: 0 | BD32: =SUM(E32:BC32) -> 60000 | BG32: =E32 -> 0 | BH32: =SUM(F32:Q32) -> 60000 | BI32: =SUM(R32:AC32) -> 0 | BJ32: =SUM(AD32:AO32) -> 0 | BK32: =SUM(AP32:BA32) -> 0 | BL32: =SUM(BB32:BC32) -> 0 | BM32: =SUM(BG32:BL32) -> 60000
A33: Traffic Memo (Concept Level) | E33: 0 | F33: ='Entitlement Gantt Chart'!F49 -> 15000 | G33: ='Entitlement Gantt Chart'!G49 -> 0 | H33: ='Entitlement Gantt Chart'!H49 -> 0 | I33: ='Entitlement Gantt Chart'!I49 -> 0 | J33: ='Entitlement Gantt Chart'!J49 -> 0 | K33: ='Entitlement Gantt Chart'!K49 -> 0 | L33: ='Entitlement Gantt Chart'!L49 -> 0 | M33: ='Entitlement Gantt Chart'!M49 -> 0 | ... Q33: ='Entitlement Gantt Chart'!Q49 -> 0 | R33: 0 | S33: 0 | T33: 0 | U33: 0 | V33: 0 | W33: 0 | X33: 0 | Y33: 0 | Z33: 0 | AA33: 0 | AB33: 0 | AC33: 0 | AD33: 0 | AE33: 0 | AF33: 0 | AG33: 0 | AH33: 0 | AI33: 0 | AJ33: 0 | AK33: 0 | AL33: 0 | AM33: 0 | AN33: 0 | AO33: 0 | AP33: 0 | AQ33: 0 | AR33: 0 | AS33: 0 | AT33: 0 | AU33: 0 | AV33: 0 | AW33: 0 | AX33: 0 | AY33: 0 | AZ33: 0 | BA33: 0 | BB33: 0 | BC33: 0 | BD33: =SUM(E33:BC33) -> 15000 | BG33: =E33 -> 0 | BH33: =SUM(F33:Q33) -> 15000 | BI33: =SUM(R33:AC33) -> 0 | BJ33: =SUM(AD33:AO33) -> 0 | BK33: =SUM(AP33:BA33) -> 0 | BL33: =SUM(BB33:BC33) -> 0 | BM33: =SUM(BG33:BL33) -> 15000
A34: Legal (Entitlement Strategy, Filings, etc.) | E34: 0 | F34: ='Entitlement Gantt Chart'!F50 -> 20000 | G34: ='Entitlement Gantt Chart'!G50 -> 0 | H34: ='Entitlement Gantt Chart'!H50 -> 0 | I34: ='Entitlement Gantt Chart'!I50 -> 0 | J34: ='Entitlement Gantt Chart'!J50 -> 0 | K34: ='Entitlement Gantt Chart'!K50 -> 0 | L34: ='Entitlement Gantt Chart'!L50 -> 0 | M34: ='Entitlement Gantt Chart'!M50 -> 0 | ... Q34: ='Entitlement Gantt Chart'!Q50 -> 0 | R34: 0 | S34: 0 | T34: 0 | U34: 0 | V34: 0 | W34: 0 | X34: 0 | Y34: 0 | Z34: 0 | AA34: 0 | AB34: 0 | AC34: 0 | AD34: 0 | AE34: 0 | AF34: 0 | AG34: 0 | AH34: 0 | AI34: 0 | AJ34: 0 | AK34: 0 | AL34: 0 | AM34: 0 | AN34: 0 | AO34: 0 | AP34: 0 | AQ34: 0 | AR34: 0 | AS34: 0 | AT34: 0 | AU34: 0 | AV34: 0 | AW34: 0 | AX34: 0 | AY34: 0 | AZ34: 0 | BA34: 0 | BB34: 0 | BC34: 0 | BD34: =SUM(E34:BC34) -> 20000 | BG34: =E34 -> 0 | BH34: =SUM(F34:Q34) -> 20000 | BI34: =SUM(R34:AC34) -> 0 | BJ34: =SUM(AD34:AO34) -> 0 | BK34: =SUM(AP34:BA34) -> 0 | BL34: =SUM(BB34:BC34) -> 0 | BM34: =SUM(BG34:BL34) -> 20000
A35: Detailed Civil Engineering (Primary Plan, Lake Design, Utilities) | E35: 0 | F35: ='Entitlement Gantt Chart'!F51 -> 0 | G35: ='Entitlement Gantt Chart'!G51 -> 0 | H35: ='Entitlement Gantt Chart'!H51 -> 0 | I35: ='Entitlement Gantt Chart'!I51 -> 140000 | J35: ='Entitlement Gantt Chart'!J51 -> 0 | K35: ='Entitlement Gantt Chart'!K51 -> 0 | L35: ='Entitlement Gantt Chart'!L51 -> 0 | M35: ='Entitlement Gantt Chart'!M51 -> 0 | ... Q35: ='Entitlement Gantt Chart'!Q51 -> 0 | R35: 0 | S35: 0 | T35: 0 | U35: 0 | V35: 0 | W35: 0 | X35: 0 | Y35: 0 | Z35: 0 | AA35: 0 | AB35: 0 | AC35: 0 | AD35: 0 | AE35: 0 | AF35: 0 | AG35: 0 | AH35: 0 | AI35: 0 | AJ35: 0 | AK35: 0 | AL35: 0 | AM35: 0 | AN35: 0 | AO35: 0 | AP35: 0 | AQ35: 0 | AR35: 0 | AS35: 0 | AT35: 0 | AU35: 0 | AV35: 0 | AW35: 0 | AX35: 0 | AY35: 0 | AZ35: 0 | BA35: 0 | BB35: 0 | BC35: 0 | BD35: =SUM(E35:BC35) -> 140000 | BG35: =E35 -> 0 | BH35: =SUM(F35:Q35) -> 140000 | BI35: =SUM(R35:AC35) -> 0 | BJ35: =SUM(AD35:AO35) -> 0 | BK35: =SUM(AP35:BA35) -> 0 | BL35: =SUM(BB35:BC35) -> 0 | BM35: =SUM(BG35:BL35) -> 140000
A36: Stormwater / Hydrology Model | E36: 0 | F36: ='Entitlement Gantt Chart'!F52 -> 0 | G36: ='Entitlement Gantt Chart'!G52 -> 0 | H36: ='Entitlement Gantt Chart'!H52 -> 0 | I36: ='Entitlement Gantt Chart'!I52 -> 75000 | J36: ='Entitlement Gantt Chart'!J52 -> 0 | K36: ='Entitlement Gantt Chart'!K52 -> 0 | L36: ='Entitlement Gantt Chart'!L52 -> 0 | M36: ='Entitlement Gantt Chart'!M52 -> 0 | ... Q36: ='Entitlement Gantt Chart'!Q52 -> 0 | R36: 0 | S36: 0 | T36: 0 | U36: 0 | V36: 0 | W36: 0 | X36: 0 | Y36: 0 | Z36: 0 | AA36: 0 | AB36: 0 | AC36: 0 | AD36: 0 | AE36: 0 | AF36: 0 | AG36: 0 | AH36: 0 | AI36: 0 | AJ36: 0 | AK36: 0 | AL36: 0 | AM36: 0 | AN36: 0 | AO36: 0 | AP36: 0 | AQ36: 0 | AR36: 0 | AS36: 0 | AT36: 0 | AU36: 0 | AV36: 0 | AW36: 0 | AX36: 0 | AY36: 0 | AZ36: 0 | BA36: 0 | BB36: 0 | BC36: 0 | BD36: =SUM(E36:BC36) -> 75000 | BG36: =E36 -> 0 | BH36: =SUM(F36:Q36) -> 75000 | BI36: =SUM(R36:AC36) -> 0 | BJ36: =SUM(AD36:AO36) -> 0 | BK36: =SUM(AP36:BA36) -> 0 | BL36: =SUM(BB36:BC36) -> 0 | BM36: =SUM(BG36:BL36) -> 75000
A37: Landscape Architecture (Buffers, Lake Edgees, Open Space) | E37: 0 | F37: ='Entitlement Gantt Chart'!F53 -> 0 | G37: ='Entitlement Gantt Chart'!G53 -> 0 | H37: ='Entitlement Gantt Chart'!H53 -> 0 | I37: ='Entitlement Gantt Chart'!I53 -> 120000 | J37: ='Entitlement Gantt Chart'!J53 -> 0 | K37: ='Entitlement Gantt Chart'!K53 -> 0 | L37: ='Entitlement Gantt Chart'!L53 -> 0 | M37: ='Entitlement Gantt Chart'!M53 -> 0 | ... Q37: ='Entitlement Gantt Chart'!Q53 -> 0 | R37: 0 | S37: 0 | T37: 0 | U37: 0 | V37: 0 | W37: 0 | X37: 0 | Y37: 0 | Z37: 0 | AA37: 0 | AB37: 0 | AC37: 0 | AD37: 0 | AE37: 0 | AF37: 0 | AG37: 0 | AH37: 0 | AI37: 0 | AJ37: 0 | AK37: 0 | AL37: 0 | AM37: 0 | AN37: 0 | AO37: 0 | AP37: 0 | AQ37: 0 | AR37: 0 | AS37: 0 | AT37: 0 | AU37: 0 | AV37: 0 | AW37: 0 | AX37: 0 | AY37: 0 | AZ37: 0 | BA37: 0 | BB37: 0 | BC37: 0 | BD37: =SUM(E37:BC37) -> 120000 | BG37: =E37 -> 0 | BH37: =SUM(F37:Q37) -> 120000 | BI37: =SUM(R37:AC37) -> 0 | BJ37: =SUM(AD37:AO37) -> 0 | BK37: =SUM(AP37:BA37) -> 0 | BL37: =SUM(BB37:BC37) -> 0 | BM37: =SUM(BG37:BL37) -> 120000
A38: Geotechnical Borings & Reports | E38: 0 | F38: ='Entitlement Gantt Chart'!F54 -> 0 | G38: ='Entitlement Gantt Chart'!G54 -> 0 | H38: ='Entitlement Gantt Chart'!H54 -> 0 | I38: ='Entitlement Gantt Chart'!I54 -> 20000 | J38: ='Entitlement Gantt Chart'!J54 -> 0 | K38: ='Entitlement Gantt Chart'!K54 -> 0 | L38: ='Entitlement Gantt Chart'!L54 -> 0 | M38: ='Entitlement Gantt Chart'!M54 -> 0 | ... Q38: ='Entitlement Gantt Chart'!Q54 -> 0 | R38: 0 | S38: 0 | T38: 0 | U38: 0 | V38: 0 | W38: 0 | X38: 0 | Y38: 0 | Z38: 0 | AA38: 0 | AB38: 0 | AC38: 0 | AD38: 0 | AE38: 0 | AF38: 0 | AG38: 0 | AH38: 0 | AI38: 0 | AJ38: 0 | AK38: 0 | AL38: 0 | AM38: 0 | AN38: 0 | AO38: 0 | AP38: 0 | AQ38: 0 | AR38: 0 | AS38: 0 | AT38: 0 | AU38: 0 | AV38: 0 | AW38: 0 | AX38: 0 | AY38: 0 | AZ38: 0 | BA38: 0 | BB38: 0 | BC38: 0 | BD38: =SUM(E38:BC38) -> 20000 | BG38: =E38 -> 0 | BH38: =SUM(F38:Q38) -> 20000 | BI38: =SUM(R38:AC38) -> 0 | BJ38: =SUM(AD38:AO38) -> 0 | BK38: =SUM(AP38:BA38) -> 0 | BL38: =SUM(BB38:BC38) -> 0 | BM38: =SUM(BG38:BL38) -> 20000
... A44: Cost Estimates (For Lenders / Buyers) | E44: 0 | F44: ='Entitlement Gantt Chart'!F60 -> 0 | G44: ='Entitlement Gantt Chart'!G60 -> 0 | H44: ='Entitlement Gantt Chart'!H60 -> 0 | I44: ='Entitlement Gantt Chart'!I60 -> 0 | J44: ='Entitlement Gantt Chart'!J60 -> 10000 | K44: ='Entitlement Gantt Chart'!K60 -> 0 | L44: ='Entitlement Gantt Chart'!L60 -> 0 | M44: ='Entitlement Gantt Chart'!M60 -> 0 | ... Q44: ='Entitlement Gantt Chart'!Q60 -> 0 | R44: 0 | S44: 0 | T44: 0 | U44: 0 | V44: 0 | W44: 0 | X44: 0 | Y44: 0 | Z44: 0 | AA44: 0 | AB44: 0 | AC44: 0 | AD44: 0 | AE44: 0 | AF44: 0 | AG44: 0 | AH44: 0 | AI44: 0 | AJ44: 0 | AK44: 0 | AL44: 0 | AM44: 0 | AN44: 0 | AO44: 0 | AP44: 0 | AQ44: 0 | AR44: 0 | AS44: 0 | AT44: 0 | AU44: 0 | AV44: 0 | AW44: 0 | AX44: 0 | AY44: 0 | AZ44: 0 | BA44: 0 | BB44: 0 | BC44: 0 | BD44: =SUM(E44:BC44) -> 10000 | BG44: =E44 -> 0 | BH44: =SUM(F44:Q44) -> 10000 | BI44: =SUM(R44:AC44) -> 0 | BJ44: =SUM(AD44:AO44) -> 0 | BK44: =SUM(AP44:BA44) -> 0 | BL44: =SUM(BB44:BC44) -> 0 | BM44: =SUM(BG44:BL44) -> 10000
A45: Brokerage / Presale Support (Marketing, Contracts, etc.) | E45: 0 | F45: 50000 | G45: 50000 | H45: 50000 | I45: 50000 | J45: 0 | K45: 0 | L45: 0 | M45: 0 | N45: 0 | O45: 0 | P45: 0 | Q45: 0 | R45: 0 | S45: 0 | T45: 0 | U45: 0 | V45: 0 | W45: 0 | X45: 0 | Y45: 0 | Z45: 0 | AA45: 0 | AB45: 0 | AC45: 0 | AD45: 0 | AE45: 0 | AF45: 0 | AG45: 0 | AH45: 0 | AI45: 0 | AJ45: 0 | AK45: 0 | AL45: 0 | AM45: 0 | AN45: 0 | AO45: 0 | AP45: 0 | AQ45: 0 | AR45: 0 | AS45: 0 | AT45: 0 | AU45: 0 | AV45: 0 | AW45: 0 | AX45: 0 | AY45: 0 | AZ45: 0 | BA45: 0 | BB45: 0 | BC45: 0 | BD45: =SUM(E45:BC45) -> 200000 | BG45: =E45 -> 0 | BH45: =SUM(F45:Q45) -> 200000 | BI45: =SUM(R45:AC45) -> 0 | BJ45: =SUM(AD45:AO45) -> 0 | BK45: =SUM(AP45:BA45) -> 0 | BL45: =SUM(BB45:BC45) -> 0 | BM45: =SUM(BG45:BL45) -> 200000
A46: Secondary Plat Survey & Legal Descriptions | E46: 0 | F46: ='Entitlement Gantt Chart'!F62 -> 0 | G46: ='Entitlement Gantt Chart'!G62 -> 0 | H46: ='Entitlement Gantt Chart'!H62 -> 0 | I46: ='Entitlement Gantt Chart'!I62 -> 0 | J46: ='Entitlement Gantt Chart'!J62 -> 0 | K46: ='Entitlement Gantt Chart'!K62 -> 0 | L46: ='Entitlement Gantt Chart'!L62 -> 0 | M46: ='Entitlement Gantt Chart'!M62 -> 0 | ... Q46: ='Entitlement Gantt Chart'!Q62 -> 0 | R46: 0 | S46: 0 | T46: 0 | U46: 0 | V46: 0 | W46: 0 | X46: 0 | Y46: 0 | Z46: 0 | AA46: 0 | AB46: 0 | AC46: 0 | AD46: 0 | AE46: 0 | AF46: 0 | AG46: 0 | AH46: 0 | AI46: 0 | AJ46: 0 | AK46: 0 | AL46: 0 | AM46: 0 | AN46: 0 | AO46: 0 | AP46: 0 | AQ46: 0 | AR46: 0 | AS46: 0 | AT46: 0 | AU46: 0 | AV46: 0 | AW46: 0 | AX46: 0 | AY46: 0 | AZ46: 0 | BA46: 0 | BB46: 0 | BC46: 0 | BD46: =SUM(E46:BC46) -> 50000 | BG46: =E46 -> 0 | BH46: =SUM(F46:Q46) -> 50000 | BI46: =SUM(R46:AC46) -> 0 | BJ46: =SUM(AD46:AO46) -> 0 | BK46: =SUM(AP46:BA46) -> 0 | BL46: =SUM(BB46:BC46) -> 0 | BM46: =SUM(BG46:BL46) -> 50000
A47: Civil Revisions (Secondary Plan) | E47: 0 | F47: ='Entitlement Gantt Chart'!F63 -> 0 | G47: ='Entitlement Gantt Chart'!G63 -> 0 | H47: ='Entitlement Gantt Chart'!H63 -> 0 | I47: ='Entitlement Gantt Chart'!I63 -> 0 | J47: ='Entitlement Gantt Chart'!J63 -> 0 | K47: ='Entitlement Gantt Chart'!K63 -> 0 | L47: ='Entitlement Gantt Chart'!L63 -> 0 | M47: ='Entitlement Gantt Chart'!M63 -> 0 | ... Q47: ='Entitlement Gantt Chart'!Q63 -> 0 | R47: 0 | S47: 0 | T47: 0 | U47: 0 | V47: 0 | W47: 0 | X47: 0 | Y47: 0 | Z47: 0 | AA47: 0 | AB47: 0 | AC47: 0 | AD47: 0 | AE47: 0 | AF47: 0 | AG47: 0 | AH47: 0 | AI47: 0 | AJ47: 0 | AK47: 0 | AL47: 0 | AM47: 0 | AN47: 0 | AO47: 0 | AP47: 0 | AQ47: 0 | AR47: 0 | AS47: 0 | AT47: 0 | AU47: 0 | AV47: 0 | AW47: 0 | AX47: 0 | AY47: 0 | AZ47: 0 | BA47: 0 | BB47: 0 | BC47: 0 | BD47: =SUM(E47:BC47) -> 60000 | BG47: =E47 -> 0 | BH47: =SUM(F47:Q47) -> 60000 | BI47: =SUM(R47:AC47) -> 0 | BJ47: =SUM(AD47:AO47) -> 0 | BK47: =SUM(AP47:BA47) -> 0 | BL47: =SUM(BB47:BC47) -> 0 | BM47: =SUM(BG47:BL47) -> 60000
A48: Plan Committee / Commission Filings | E48: 0 | F48: ='Entitlement Gantt Chart'!F64 -> 0 | G48: ='Entitlement Gantt Chart'!G64 -> 0 | H48: ='Entitlement Gantt Chart'!H64 -> 0 | I48: ='Entitlement Gantt Chart'!I64 -> 0 | J48: ='Entitlement Gantt Chart'!J64 -> 0 | K48: ='Entitlement Gantt Chart'!K64 -> 0 | L48: ='Entitlement Gantt Chart'!L64 -> 0 | M48: ='Entitlement Gantt Chart'!M64 -> 0 | ... Q48: ='Entitlement Gantt Chart'!Q64 -> 10000 | R48: 0 | S48: 0 | T48: 0 | U48: 0 | V48: 0 | W48: 0 | X48: 0 | Y48: 0 | Z48: 0 | AA48: 0 | AB48: 0 | AC48: 0 | AD48: 0 | AE48: 0 | AF48: 0 | AG48: 0 | AH48: 0 | AI48: 0 | AJ48: 0 | AK48: 0 | AL48: 0 | AM48: 0 | AN48: 0 | AO48: 0 | AP48: 0 | AQ48: 0 | AR48: 0 | AS48: 0 | AT48: 0 | AU48: 0 | AV48: 0 | AW48: 0 | AX48: 0 | AY48: 0 | AZ48: 0 | BA48: 0 | BB48: 0 | BC48: 0 | BD48: =SUM(E48:BC48) -> 10000 | BG48: =E48 -> 0 | BH48: =SUM(F48:Q48) -> 10000 | BI48: =SUM(R48:AC48) -> 0 | BJ48: =SUM(AD48:AO48) -> 0 | BK48: =SUM(AP48:BA48) -> 0 | BL48: =SUM(BB48:BC48) -> 0 | BM48: =SUM(BG48:BL48) -> 10000
A49: Legal (Approvals, Recordation) | E49: 0 | F49: ='Entitlement Gantt Chart'!F65 -> 0 | G49: ='Entitlement Gantt Chart'!G65 -> 0 | H49: ='Entitlement Gantt Chart'!H65 -> 0 | I49: ='Entitlement Gantt Chart'!I65 -> 0 | J49: ='Entitlement Gantt Chart'!J65 -> 0 | K49: ='Entitlement Gantt Chart'!K65 -> 0 | L49: ='Entitlement Gantt Chart'!L65 -> 0 | M49: ='Entitlement Gantt Chart'!M65 -> 0 | ... Q49: ='Entitlement Gantt Chart'!Q65 -> 0 | R49: 0 | S49: 0 | T49: 0 | U49: 0 | V49: 0 | W49: 0 | X49: 0 | Y49: 0 | Z49: 0 | AA49: 0 | AB49: 0 | AC49: 0 | AD49: 0 | AE49: 0 | AF49: 0 | AG49: 0 | AH49: 0 | AI49: 0 | AJ49: 0 | AK49: 0 | AL49: 0 | AM49: 0 | AN49: 0 | AO49: 0 | AP49: 0 | AQ49: 0 | AR49: 0 | AS49: 0 | AT49: 0 | AU49: 0 | AV49: 0 | AW49: 0 | AX49: 0 | AY49: 0 | AZ49: 0 | BA49: 0 | BB49: 0 | BC49: 0 | BD49: =SUM(E49:BC49) -> 15000 | BG49: =E49 -> 0 | BH49: =SUM(F49:Q49) -> 15000 | BI49: =SUM(R49:AC49) -> 0 | BJ49: =SUM(AD49:AO49) -> 0 | BK49: =SUM(AP49:BA49) -> 0 | BL49: =SUM(BB49:BC49) -> 0 | BM49: =SUM(BG49:BL49) -> 15000
...

Sheet Lot Pricing Worksheet
A1: LAND ALLOCATION | B1: LOTS | C1: DIMENSIONS W x D | E1: SF | F1: Target Value per Lot | G1: Total 2027 Lot Value | H1: % of Land Value to Home Value | I1: Home Size | J1: Beds / Bath | K1: Cost to Build (PSF) | L1: Cost to Build per Home | M1: Total 2027 Build Value | N1: Target Value per Home (Lot + Build) | O1: Value per Home (PSF) | P1: Total 2027 Home Value
A2: Crescent Homes | B2: 8 | C2: 40 | D2: 70 | E2: 2800 | F2: 500000 | G2: =F2*B2 -> 4000000 | H2: =F2/N2 -> 0.33783784 | I2: 2800 | J2: 3 br, 3.5 bth | K2: 350 | L2: =K2*I2 -> 980000 | M2: =L2*B2 -> 7840000 | N2: =F2+L2 -> 1480000 | O2: =N2/I2 -> 528.57143 | P2: =N2*B2 -> 11840000
A3: Court Homes | B3: 6 | C3: 28 | D3: 40 | E3: 1120 | F3: 300000 | G3: =F3*B3 -> 1800000 | H3: =F3/N3 -> 0.36363636 | I3: 1500 | J3: 2 br, 2 bth | K3: 350 | L3: =K3*I3 -> 525000 | M3: =L3*B3 -> 3150000 | N3: =F3+L3 -> 825000 | O3: =N3/I3 -> 550 | P3: =N3*B3 -> 4950000
A4: Manor Homes | B4: 5 | C4: 60 | D4: 90 | E4: 5400 | F4: 600000 | G4: =F4*B4 -> 3000000 | H4: =F4/N4 -> 0.35608309 | I4: 3100 | J4: 4br, 4.5 bth | K4: 350 | L4: =K4*I4 -> 1085000 | M4: =L4*B4 -> 5425000 | N4: =F4+L4 -> 1685000 | O4: =N4/I4 -> 543.54839 | P4: =N4*B4 -> 8425000
A5: Big House Condo | B5: 12 | C5: - | D5: - | E5: - | F5: 225000 | G5: =F5*B5 -> 2700000 | H5: =F5/N5 -> 0.41666667 | I5: 900 | J5: 2 br, 1 bth | K5: 350 | L5: =K5*I5 -> 315000 | M5: =L5*B5 -> 3780000 | N5: =F5+L5 -> 540000 | O5: =N5/I5 -> 600 | P5: =N5*B5 -> 6480000
A6: Treehouses | B6: 4 | C6: 36 | D6: 36 | E6: 1296 | F6: 250000 | G6: =F6*B6 -> 1000000 | H6: =F6/N6 -> 0.39370079 | I6: 1100 | J6: 2br, 2 bth | K6: 350 | L6: =K6*I6 -> 385000 | M6: =L6*B6 -> 1540000 | N6: =F6+L6 -> 635000 | O6: =N6/I6 -> 577.27273 | P6: =N6*B6 -> 2540000
A7: Pool Bungalows | B7: 9 | C7: 28 | D7: 40 | E7: 1120 | F7: 300000 | G7: =F7*B7 -> 2700000 | H7: =F7/N7 -> 0.34883721 | I7: 1600 | J7: 2 br, 2.5 bth | K7: 350 | L7: =K7*I7 -> 560000 | M7: =L7*B7 -> 5040000 | N7: =F7+L7 -> 860000 | O7: =N7/I7 -> 537.5 | P7: =N7*B7 -> 7740000
A8: Lake Cottages (4 pack) | B8: 8 | C8: 46 | D8: 64 | E8: 2944 | F8: 450000 | G8: =F8*B8 -> 3600000 | H8: =F8/N8 -> 0.35363458 | I8: 2350 | J8: 3br, 3 bth | K8: 350 | L8: =K8*I8 -> 822500 | M8: =L8*B8 -> 6580000 | N8: =F8+L8 -> 1272500 | O8: =N8/I8 -> 541.48936 | P8: =N8*B8 -> 10180000
A9: Dune Homes | B9: 9 | C9: 55 | D9: 90 | E9: 4950 | F9: 400000 | G9: =F9*B9 -> 3600000 | H9: =F9/N9 -> 0.29739777 | I9: 2700 | J9: 3 br, 3.5 bth | K9: 350 | L9: =K9*I9 -> 945000 | M9: =L9*B9 -> 8505000 | N9: =F9+L9 -> 1345000 | O9: =N9/I9 -> 498.14815 | P9: =N9*B9 -> 12105000
A10: Lake Cottages (6 pack) | B10: 24 | C10: 46 | D10: 64 | E10: 2944 | F10: 450000 | G10: =F10*B10 -> 10800000 | H10: =F10/N10 -> 0.37974684 | I10: 2100 | J10: 3 br, 2 bth | K10: 350 | L10: =K10*I10 -> 735000 | M10: =L10*B10 -> 17640000 | N10: =F10+L10 -> 1185000 | O10: =N10/I10 -> 564.28571 | P10: =N10*B10 -> 28440000
A11: Forest Homes | B11: 3 | C11: 90 | D11: 100 | E11: 9000 | F11: 750000 | G11: =F11*B11 -> 2250000 | H11: =F11/N11 -> 0.37313433 | I11: 3600 | J11: 5 br, 5.5 bth | K11: 350 | L11: =K11*I11 -> 1260000 | M11: =L11*B11 -> 3780000 | N11: =F11+L11 -> 2010000 | O11: =N11/I11 -> 558.33333 | P11: =N11*B11 -> 6030000
B12: 88 | G12: =SUM(G2:G11) -> 35450000 | M12: =SUM(M2:M11) -> 63280000 | P12: =SUM(P2:P11) -> 98730000

Sheet Lot Pricing
A1: Lake Kai
A3: Lot Number | B3: Unit Type | C3: Price | E3: Profit Anlaysis Summary
A4: 1 | B4: Crescent Homes | C4: ='Lot Pricing Worksheet'!F2 -> 500000
A5: 2 | B5: Crescent Homes | C5: =$C$4 -> 500000 | E5: SOURCES | J5: Per Lot
A6: 3 | B6: Crescent Homes | C6: =$C$4 -> 500000 | E6: Gross Lot Sales Proceeds | H6: =Proforma!BD17 -> 35800221 | J6: =H6/SUMMARY!$G$9 -> 406820.69
A7: 4 | B7: Crescent Homes | C7: =$C$4 -> 500000 | E7: 0.06 | H7: =Proforma!BD18 -> -2148013.3 | J7: =H7/SUMMARY!$G$9 -> -24409.242
A8: 5 | B8: Crescent Homes | C8: =$C$4 -> 500000 | E8: Net Sales Proceeds | H8: =H6+H7 -> 33652208 | J8: =SUM(J6:J7) -> 382411.45
A9: 6 | B9: Crescent Homes | C9: =$C$4 -> 500000
A10: 7 | B10: Crescent Homes | C10: =$C$4 -> 500000 | E10: USES
A11: 8 | B11: Crescent Homes | C11: =$C$4 -> 500000 | E11: Site Acquisition (Month 1 and 13) | H11: =Proforma!BD22 -> 0 | J11: =H11/SUMMARY!$G$9 -> 0
A12: 9 | B12: Court Homes | C12: ='Lot Pricing Worksheet'!F3 -> 300000 | E12: 0.04 | H12: =Proforma!BD23 -> 0 | J12: =H12/SUMMARY!$G$9 -> 0
A13: 10 | B13: Court Homes | C13: =$C$12 -> 300000 | E13: 0.03 | H13: =Proforma!BD24 -> 0 | J13: =H13/SUMMARY!$G$9 -> 0
A14: 11 | B14: Court Homes | C14: =$C$12 -> 300000 | E14: Developer Fee ($600k -- 4% of TDC) | H14: =Proforma!BD25 -> 600000 | J14: =H14/SUMMARY!$G$9 -> 6818.1818
A15: 12 | B15: Court Homes | C15: =$C$12 -> 300000 | E15: Entitlement | H15: =SUM(Proforma!BD27:BD50) -> 1435500 | J15: =H15/SUMMARY!$G$9 -> 16312.5
A16: 13 | B16: Court Homes | C16: =$C$12 -> 300000 | E16: Hard Costs | H16: =SUM(Proforma!BD52:BD66) -> 8219011.9 | J16: =H16/SUMMARY!$G$9 -> 93397.863
A17: 14 | B17: Court Homes | C17: =$C$12 -> 300000 | E17: Soft Costs | H17: =SUM(Proforma!BD68:BD79) -> 1445988.3 | J17: =H17/SUMMARY!$G$9 -> 16431.685
A18: 15 | B18: Manor Homes | C18: ='Lot Pricing Worksheet'!F4 -> 600000 | E18: Subtotal Costs | H18: =SUM(H14:H17) -> 11700500 | J18: =SUM(J14:J17) -> 132960.23
A19: 16 | B19: Manor Homes | C19: =$C$18 -> 600000
A20: 17 | B20: Manor Homes | C20: =$C$18 -> 600000 | E20: Net Cash Flow to Equity | H20: =H8-H18 -> 21951707 | J20: =H20/SUMMARY!$G$9 -> 249451.22
A21: 18 | B21: Manor Homes | C21: =$C$18 -> 600000
A22: 19 | B22: Manor Homes | C22: =$C$18 -> 600000 | E22: Profit Margin | H22: =H20/H8 -> 0.65231107
A23: 20 | B23: Big House Rental | C23: ='Lot Pricing Worksheet'!F5 -> 225000 | E23: Peak Equity | H23: =-MIN(Proforma!F84:BC84) -> 11303559
A24: 21 | B24: Big House Rental | C24: =$C$23 -> 225000 | E24: Multiple | H24: =(H23+H20)/H23 -> 2.9420173
A25: 22 | B25: Big House Rental | C25: =$C$23 -> 225000
A26: 23 | B26: Big House Rental | C26: =$C$23 -> 225000
A27: 24 | B27: Big House Rental | C27: =$C$23 -> 225000
A28: 25 | B28: Big House Rental | C28: =$C$23 -> 225000
A29: 26 | B29: Big House Rental | C29: =$C$23 -> 225000
A30: 27 | B30: Big House Rental | C30: =$C$23 -> 225000 | M30: Lake Kai - Lake Front - Analysis
A31: 28 | B31: Big House Rental | C31: =$C$23 -> 225000 | M31: Home Sale Price | N31: 2000000 | T31: =N31/R32 -> 533.33333
A32: 29 | B32: Big House Rental | C32: =$C$23 -> 225000 | M32: Home Construction Cost | N32: 1300000 | O32: =N32/N31 -> 0.65 | Q32: Home Size | R32: 3750 | S32: SF | T32: =N32/R32 -> 346.66667
A33: 30 | B33: Big House Rental | C33: =$C$23 -> 225000 | M33: Inferred Land Value | N33: =N31-N32 -> 700000 | O33: =N33/N31 -> 0.35
A34: 31 | B34: Big House Rental | C34: =$C$23 -> 225000 | M34: Builder Risk Discount | N34: =N33*-O34 -> -140000 | O34: 0.2
A35: 32 | B35: Tree houses | C35: ='Lot Pricing Worksheet'!F6 -> 250000 | M35: Retail Lot Sale Price | N35: =N33+N34 -> 560000
A36: 33 | B36: Tree houses | C36: =$C$35 -> 250000
A37: 34 | B37: Tree houses | C37: =$C$35 -> 250000 | M37: Lake Kai - Interior Lot - Analysis
A38: 35 | B38: Tree houses | C38: =$C$35 -> 250000 | M38: Home Sale Price | N38: 1300000 | T38: =N38/R39 -> 464.28571
A39: 36 | B39: Pool Bungalows | C39: ='Lot Pricing Worksheet'!F7 -> 300000 | M39: Home Construction Cost | N39: 900000 | O39: =N39/N38 -> 0.69230769 | Q39: Home Size | R39: 2800 | S39: SF | T39: =N39/R39 -> 321.42857
A40: 37 | B40: Pool Bungalows | C40: =$C$39 -> 300000 | M40: Inferred Land Value | N40: =N38-N39 -> 400000 | O40: =N40/N38 -> 0.30769231
A41: 38 | B41: Pool Bungalows | C41: =$C$39 -> 300000 | M41: Builder Risk Discount | N41: =N40*-O41 -> -80000 | O41: 0.2
...

Sheet Land Comps
A1: Address | B1: City | C1: State | D1: Date Sold | E1: Sales Price | F1: Lot Area (SF) | G1: Price PSF | H1: Lakefront Property | I1: Lake Michigan Lakefront Property | J1: Notes | K1: Beacon Link
A2: 1526 Lakeshore Dr | B2: Michigan City | C2: IN | D2: For Sale | E2: 1200000 | F2: 4829 | G2: =E2/F2 -> 248.49865 | H2: Yes | I2: Yes | J2: Located on Lake Michigan. Being marketed as a teardown. Asking price is $1.2M. | K2: Beacon - LaPorte County, IN - Report: 460121254004000022
A3: 408 Beachwalk Ln. | B3: Michigan City | C3: IN | D3: 45142 | E3: 350000 | F3: =38*115 -> 4370 | G3: =E3/F3 -> 80.091533 | H3: Yes | I3: No | J3: Entitled land purchase. Beachwalk neighborhood - amenities. Lakefront lot. | K3: Beacon - LaPorte County, IN - Report: 460121476078000022
A4: 3873 Lake Shore Dr. | B4: New Buffalo | C4: MI | D4: 44803 | E4: 2150000 | F4: 14348 | G4: =E4/F4 -> 149.84667 | H4: Yes | I4: Yes | J4: Entitled land purchase. Located on Lake Michigan. | K4: Beacon - Berrien County, MI - Map
A5: 1612 Lakeshore Dr. | B5: Michigan City | C5: IN | D5: 44595 | E5: 2100000 | F5: 9665 | G5: =E5/F5 -> 217.27884 | H5: Yes | I5: Yes | J5: Located on lake Michigan. Purchased with home; structure demolished and sale reflects land value. | K5: Beacon - LaPorte County, IN - Report: 460121227003000022
A6: Lake Shore Dr. | B6: New Buffalo | C6: MI | D6: 44329 | E6: 1695000 | F6: 8015 | G6: =E6/F6 -> 211.47848 | H6: Yes | I6: Yes | J6: Entitled land purchase. Located on Lake Michigan. | K6: Beacon - Berrien County, MI - Map
A7: Lakefront Lots - Average | E7: =AVERAGE(E2:E6) -> 1499000 | F7: =AVERAGE(F2:F6) -> 8245.4 | G7: =AVERAGE(G2:G6) -> 181.43883
A8: Address | B8: City | C8: State | D8: Date Sold | E8: Sales Price | F8: Lot Area (SF) | G8: Price PSF | H8: Lakefront Property | I8: Lake Michigan Lakefront Property | J8: Notes | K8: Beacon Link
A9: Camp Court | B9: Michigan City | C9: IN | D9: 46024 | E9: 35000 | F9: =38*39 -> 1482 | G9: =E9/F9 -> 23.616734 | H9: No | I9: No | J9: Entitled land purchase. Beachwalk neighborhood - amenities. | K9: Beacon - LaPorte County, IN - Report: 460121476067000022
A10: Cottage Camp | B10: Michigan City | C10: IN | D10: 46022 | E10: 60000 | F10: =38*39 -> 1482 | G10: =E10/F10 -> 40.48583 | H10: No | I10: No | J10: Entitled land purchase. Beachwalk neighborhood - amenities. | K10: Beacon - LaPorte County, IN - Report: 460121476063000022
A11: Lakeshore Dr | B11: Michigan City | C11: IN | D11: 46017 | E11: 200000 | F11: =0.132*43560 -> 5749.92 | G11: =E11/F11 -> 34.783093 | H11: No | I11: No | J11: Entitled land purchase. | K11: Beacon - LaPorte County, IN - Report: 460121314057000022
A12: Cottage Camp | B12: Michigan City | C12: IN | D12: 46006 | E12: 60000 | F12: =38*39 -> 1482 | G12: =E12/F12 -> 40.48583 | H12: No | I12: No | J12: Entitled land purchase. Beachwalk neighborhood - amenities. | K12: Beacon - LaPorte County, IN - Report: 460121476066000022
A13: Cottage Camp | B13: Michigan City | C13: IN | D13: 45982 | E13: 60000 | F13: =38*39 -> 1482 | G13: =E13/F13 -> 40.48583 | H13: No | I13: No | J13: Entitled land purchase. Beachwalk neighborhood - amenities. | K13: Beacon - LaPorte County, IN - Report: 460121476064000022
A14: 816 Washington Park Blvd. | B14: Michigan City | C14: IN | D14: 45978 | E14: 249000 | F14: =0.175*43560 -> 7623 | G14: =E14/F14 -> 32.664305 | H14: No | I14: No | J14: Entitled land purchase. Beachwalk neighborhood - amenities. | K14: Beacon - LaPorte County, IN - Report: 460121476117000022
A15: Cottage Camp | B15: Michigan City | C15: IN | D15: 45974 | E15: 60000 | F15: =38*39 -> 1482 | G15: =E15/F15 -> 40.48583 | H15: No | I15: No | J15: Entitled land purchase. Beachwalk neighborhood - amenities. | K15: Beacon - LaPorte County, IN - Report: 460121476065000022
A16: 818 Washington Park Blvd. | B16: Michigan City | C16: IN | D16: 45968 | E16: 247500 | F16: =0.2*43560 -> 8712 | G16: =E16/F16 -> 28.409091 | H16: No | I16: No | J16: Entitled land purchase. Beachwalk neighborhood - amenities. | K16: Beacon - LaPorte County, IN - Report: 460121476118000022
A17: 814 Washington Park Blvd. | B17: Michigan City | C17: IN | D17: 45954 | E17: 226000 | F17: =0.139*43560 -> 6054.84 | G17: =E17/F17 -> 37.325511 | H17: No | I17: No | J17: Entitled land purchase. Beachwalk neighborhood - amenities. | K17: Beacon - LaPorte County, IN - Report: 460121476116000022
A18: 10597 Marquette Dr | B18: Union Pier | C18: MI | D18: 45862 | E18: 525000 | F18: 11666 | G18: =E18/F18 -> 45.002572 | H18: No | I18: No | J18: Entitled land purchase. | K18: Beacon - Berrien County, MI - Report: 11-13-5750-0005-00-3
A19: 105 Emma Ln. | B19: Michigan City | C19: IN | D19: 45621 | E19: 150000 | F19: =0.068*43560 -> 2962.08 | G19: =E19/F19 -> 50.640091 | H19: No | I19: No | J19: Entitled land purchase. Beachwalk neighborhood - amenities. | K19: Beacon - LaPorte County, IN - Report: 460121476026000022
A20: 106 Matt Ln. | B20: Michigan City | C20: IN | D20: 45589 | E20: 240000 | F20: =49*60 -> 2940 | G20: =E20/F20 -> 81.632653 | H20: No | I20: No | J20: Entitled land purchase. Beachwalk neighborhood - amenities. | K20: Beacon - LaPorte County, IN - Report: 460121476023000022
A21: 1417 Lakeshore Dr. | B21: Long Beach | C21: IN | D21: 45446 | E21: 290000 | F21: =0.2961*43560 -> 12898.116 | G21: =E21/F21 -> 22.483904 | H21: No | I21: No | J21: Entitled land purchase. | K21: Beacon - LaPorte County, IN - Report: 460122105010000023
A22: 101 Whisper Dunes Dr. | B22: Michigan City | C22: IN | D22: 45406 | E22: 325000 | F22: =37080 -> 37080 | G22: =E22/F22 -> 8.7648328 | H22: No | I22: No | J22: Entitled land purchase. Whisper Dunes neighborhood - No neighborhood amenities. | K22: Beacon - LaPorte County, IN - Report: 460121426126000022
A23: 1409 Lakeshore Dr. | B23: Long Beach | C23: IN | D23: 44735 | E23: 300000 | F23: =0.2961*43560 -> 12898.116 | G23: =E23/F23 -> 23.259211 | H23: No | I23: No | J23: Entitled land purchase. | K23: Beacon - LaPorte County, IN - Report: 460122105005000023
A24: 18801 Leonard Ct. | B24: New Buffalo | C24: MI | D24: 44701 | E24: 1285500 | F24: 17912 | G24: =E24/F24 -> 71.76753 | H24: No | I24: No | J24: Entitled land purchase. | K24: Beacon - Berrien County, MI - Map
A25: 103 Whisper Dunes Dr. | B25: Michigan City | C25: IN | D25: 44358 | E25: 245000 | F25: 33729 | G25: =E25/F25 -> 7.2637789 | H25: No | I25: No | J25: Entitled land purchase. Whisper Dunes neighborhood - No neighborhood amenities. | K25: Beacon - LaPorte County, IN - Report: 460121426127000022
A26: 105 Whisper Dunes Dr. | B26: Michigan City | C26: IN | D26: 44076 | E26: 235000 | F26: =0.82*43560 -> 35719.2 | G26: =E26/F26 -> 6.5790947 | H26: No | I26: No | J26: Entitled land purchase. Whisper Dunes neighborhood - No neighborhood amenities. | K26: Beacon - LaPorte County, IN - Report: 460121426128000022
A27: 108 Whisper Dunes Dr. | B27: Michigan City | C27: IN | D27: 44099 | E27: 245000 | F27: =0.55*43560 -> 23958 | G27: =E27/F27 -> 10.226229 | H27: No | I27: No | J27: Entitled land purchase. Whisper Dunes neighborhood - No neighborhood amenities. | K27: Beacon - LaPorte County, IN - Report: 460121426134000022
